BEGIN:VCALENDAR
VERSION:2.0
PRODID:-//HORAK//Konzerte//DE
CALSCALE:GREGORIAN
METHOD:PUBLISH
BEGIN:VEVENT
UID:f49690e296b29a8d@horak.bigfield.at
DTSTAMP:20260420T095441Z
DTSTART;TZID=Europe/Vienna:20261028T193000
DTEND;TZID=Europe/Vienna:20261028T213000
SUMMARY:HORAK spielt OSTBAHN
DESCRIPTION:Detailinfos folgen!\n\nhttps://www.karlhorak.com/konzerte/horak-spielt-ostbahn-2026-10-28
LOCATION:AK Linz\, Volksgartenstrasse 40\, 4020\, Linz\, Österreich
URL:https://www.karlhorak.com/konzerte/horak-spielt-ostbahn-2026-10-28
END:VEVENT
END:VCALENDAR
