BEGIN:VCALENDAR
VERSION:2.0
PRODID:-//HORAK//Konzerte//DE
CALSCALE:GREGORIAN
METHOD:PUBLISH
BEGIN:VEVENT
UID:581939a370f05cd9@horak.bigfield.at
DTSTAMP:20260420T101123Z
DTSTART;TZID=Europe/Vienna:20260903T190000
DTEND;TZID=Europe/Vienna:20260903T210000
SUMMARY:HORAK spielt OSTBAHN
DESCRIPTION:Weitere Infos werden demnächst bekanntgegeben.\n\nhttps://www.karlhorak.com/konzerte/horak-spielt-ostbahn-2026-09-03
LOCATION:Klosterneuburg
URL:https://www.karlhorak.com/konzerte/horak-spielt-ostbahn-2026-09-03
END:VEVENT
END:VCALENDAR
