BEGIN:VCALENDAR
VERSION:2.0
PRODID:-//HORAK//Konzerte//DE
CALSCALE:GREGORIAN
METHOD:PUBLISH
BEGIN:VEVENT
UID:01fe2c4e9d42e4b1@horak.bigfield.at
DTSTAMP:20260420T085538Z
DTSTART;TZID=Europe/Vienna:20260613T193000
DTEND;TZID=Europe/Vienna:20260613T213000
SUMMARY:HORAK spielt OSTBAHN
DESCRIPTION:https://www.karlhorak.com/konzerte/horak-spielt-ostbahn-2026-06-13
LOCATION:Burg Rappottenstein\, Rappottenstein\, Österreich
URL:https://www.karlhorak.com/konzerte/horak-spielt-ostbahn-2026-06-13
END:VEVENT
END:VCALENDAR
