BEGIN:VCALENDAR
VERSION:2.0
PRODID:-//HORAK//Konzerte//DE
CALSCALE:GREGORIAN
METHOD:PUBLISH
BEGIN:VEVENT
UID:ffdf4e9a444317ef@horak.bigfield.at
DTSTAMP:20260420T084354Z
DTSTART;TZID=Europe/Vienna:20260523T193000
DTEND;TZID=Europe/Vienna:20260523T213000
SUMMARY:HORAK spielt OSTBAHN
DESCRIPTION:https://www.karlhorak.com/konzerte/horak-spielt-ostbahn-2026-05-23
LOCATION:Kunsthaus Weiz\, Weiz\, Österreich
URL:https://www.karlhorak.com/konzerte/horak-spielt-ostbahn-2026-05-23
END:VEVENT
END:VCALENDAR
