BEGIN:VCALENDAR
VERSION:2.0
PRODID:-//HORAK//Konzerte//DE
CALSCALE:GREGORIAN
METHOD:PUBLISH
BEGIN:VEVENT
UID:acaddf128a9eca38@horak.bigfield.at
DTSTAMP:20260420T085553Z
DTSTART;TZID=Europe/Vienna:20260411T190000
DTEND;TZID=Europe/Vienna:20260411T210000
SUMMARY:HORAK spielt OSTBAHN
DESCRIPTION:https://www.karlhorak.com/konzerte/horak-spielt-ostbahn-2026-04-11
LOCATION:Kaffeehaus Purkowitzer\, St. Gallen\, Österreich
URL:https://www.karlhorak.com/konzerte/horak-spielt-ostbahn-2026-04-11
END:VEVENT
END:VCALENDAR
