BEGIN:VCALENDAR
VERSION:2.0
PRODID:-//HORAK//Konzerte//DE
CALSCALE:GREGORIAN
METHOD:PUBLISH
BEGIN:VEVENT
UID:f31f00c62fb94fa0@horak.bigfield.at
DTSTAMP:20260420T085553Z
DTSTART;TZID=Europe/Vienna:20260410T200000
DTEND;TZID=Europe/Vienna:20260410T220000
SUMMARY:HORAK spielt OSTBAHN
DESCRIPTION:https://www.karlhorak.com/konzerte/horak-spielt-ostbahn-2026-04-10
LOCATION:Rathaussaal\, Telfs\, Österreich
URL:https://www.karlhorak.com/konzerte/horak-spielt-ostbahn-2026-04-10
END:VEVENT
END:VCALENDAR
